BEGIN:VCALENDAR
VERSION:2.0
PRODID:https://kyudotermine.de/
BEGIN:VEVENT
UID:108@kyuvb.de
SUMMARY:Seminar zur Dan-Prüfungsvorbereitung
DESCRIPTION:Seminar mit Shigeyasu Kameo und Fritz Gabler.
CLASS:PUBLIC
DTSTART;VALUE=DATE:20130525
DTEND;VALUE=DATE:20130527
DTSTAMP:20260419T190541Z
LOCATION:Rottweil
URL:https://kyudotermine.de/detail.php?id=108
ATTACH;FMTTYPE=application/pdf:https://kyuvb.de/../media/events/108/DAN%20Vorbereitungs%20Lehrgang%20Rottweil.pdf
END:VEVENT
END:VCALENDAR
