BEGIN:VCALENDAR
VERSION:2.0
PRODID:https://kyudotermine.de/
BEGIN:VEVENT
UID:109@kyuvb.de
SUMMARY:Offenes Sommerseminar
DESCRIPTION:Offenes Sommerseminar mit Mori Sensei\, Manfred Speidel und Fritz Gabler.
CLASS:PUBLIC
DTSTART;VALUE=DATE:20130724
DTEND;VALUE=DATE:20130727
DTSTAMP:20260419T190144Z
LOCATION:Rottweil
URL:https://kyudotermine.de/detail.php?id=109
ATTACH;FMTTYPE=application/pdf:https://kyuvb.de/../media/events/109/Sommerseminar%20Rottweil%202013.pdf
END:VEVENT
END:VCALENDAR
