BEGIN:VCALENDAR
VERSION:2.0
PRODID:https://kyudotermine.de/
BEGIN:VEVENT
UID:110@kyuvb.de
SUMMARY:Offenes Sommerseminar
DESCRIPTION:Offenes Sommerseminar mit Mori Sensei\, Manfred Speidel und Fritz Gabler.
CLASS:PUBLIC
DTSTART;VALUE=DATE:20130728
DTEND;VALUE=DATE:20130731
DTSTAMP:20260419T190027Z
LOCATION:Rottweil
URL:https://kyudotermine.de/detail.php?id=110
ATTACH;FMTTYPE=application/pdf:https://kyuvb.de/../media/events/110/Sommerseminar%20Rottweil%202013.pdf
END:VEVENT
END:VCALENDAR
