BEGIN:VCALENDAR
VERSION:2.0
PRODID:https://kyudotermine.de/
BEGIN:VEVENT
UID:111@kyuvb.de
SUMMARY:Offenes Heki-Sommerseminar
DESCRIPTION:Sommerseminar mit Sekine Sensei
CLASS:PUBLIC
DTSTART;VALUE=DATE:20130728
DTEND;VALUE=DATE:20130731
DTSTAMP:20260419T203331Z
LOCATION:Dresden
URL:https://kyudotermine.de/detail.php?id=111
ATTACH;FMTTYPE=application/pdf:https://kyuvb.de/../media/events/111/Ausschreibung%20Sommerseminar%20Dresden%201.pdf
ATTACH;FMTTYPE=application/pdf:https://kyuvb.de/../media/events/111/Sommer%20Dresden2013_Seminar%201.xls
END:VEVENT
END:VCALENDAR
