BEGIN:VCALENDAR
VERSION:2.0
PRODID:https://kyudotermine.de/
BEGIN:VEVENT
UID:112@kyuvb.de
SUMMARY:Offenes Heki-Sommerseminar
DESCRIPTION:Sommerseminar mit Sekine Sensei
CLASS:PUBLIC
DTSTART;VALUE=DATE:20130801
DTEND;VALUE=DATE:20130804
DTSTAMP:20260419T190026Z
LOCATION:Dresden
URL:https://kyudotermine.de/detail.php?id=112
ATTACH;FMTTYPE=application/pdf:https://kyuvb.de/../media/events/112/Ausschreibung%20Sommerseminar%20Dresden%202.pdf
ATTACH;FMTTYPE=application/pdf:https://kyuvb.de/../media/events/112/Sommer%20Dresden2013_Seminar%202.xls
END:VEVENT
END:VCALENDAR
