BEGIN:VCALENDAR
VERSION:2.0
PRODID:https://kyudotermine.de/
BEGIN:VEVENT
UID:113@kyuvb.de
SUMMARY:Sonntagstraining mit Prüfung.
DESCRIPTION:Prüfungsmöglichkeit bis 3. Kyu.
CLASS:PUBLIC
DTSTART;VALUE=DATE:20130526
DTEND;VALUE=DATE:20130527
DTSTAMP:20260419T203249Z
LOCATION:Erlangen
URL:https://kyudotermine.de/detail.php?id=113
ATTACH;FMTTYPE=application/pdf:https://kyuvb.de/../media/events/113/Pr%C3%BCfungslehrgang_26Mai2013.pdf
END:VEVENT
END:VCALENDAR
