BEGIN:VCALENDAR
VERSION:2.0
PRODID:https://kyudotermine.de/
BEGIN:VEVENT
UID:114@kyuvb.de
SUMMARY:Heki Taikai
DESCRIPTION:5. Int. Heki Taikai
CLASS:PUBLIC
DTSTART;VALUE=DATE:20130621
DTEND;VALUE=DATE:20130624
DTSTAMP:20260419T190205Z
LOCATION:Baden-Baden
URL:https://kyudotermine.de/detail.php?id=114
ATTACH;FMTTYPE=application/pdf:https://kyuvb.de/../media/events/114/Einladung%20mit%20Ausschreibung%202013.pdf
END:VEVENT
END:VCALENDAR
