BEGIN:VCALENDAR
VERSION:2.0
PRODID:https://kyudotermine.de/
BEGIN:VEVENT
UID:115@kyuvb.de
SUMMARY:Landeslehrgang
DESCRIPTION:Lehrgang mit Prüfungsmöglichkeit bis 1. Kyu.
CLASS:PUBLIC
DTSTART;VALUE=DATE:20130622
DTEND;VALUE=DATE:20130624
DTSTAMP:20260419T202644Z
LOCATION:Neuburg
URL:https://kyudotermine.de/detail.php?id=115
ATTACH;FMTTYPE=application/pdf:https://kyuvb.de/../media/events/115/LL_Neuburg_Juni2013.pdf
END:VEVENT
END:VCALENDAR
