BEGIN:VCALENDAR
VERSION:2.0
PRODID:https://kyudotermine.de/
BEGIN:VEVENT
UID:116@kyuvb.de
SUMMARY:Enteki Taikai
DESCRIPTION:Enteki Wettkampf (nur bei gutem Wetter)
CLASS:PUBLIC
DTSTART;VALUE=DATE:20130706
DTEND;VALUE=DATE:20130707
DTSTAMP:20260419T190108Z
LOCATION:Wolfsburg
URL:https://kyudotermine.de/detail.php?id=116
ATTACH;FMTTYPE=application/pdf:https://kyuvb.de/../media/events/116/Ausschreibung_Enteki_Wettkampf_Wolfsburg_6._Juli_2013.pdf
END:VEVENT
END:VCALENDAR
