BEGIN:VCALENDAR
VERSION:2.0
PRODID:https://kyudotermine.de/
BEGIN:VEVENT
UID:117@kyuvb.de
SUMMARY:Landeslehrgang
DESCRIPTION:Landeslehrgang zur Prüfungsvorbereitung mit Prüfung bis 3. Kyu.
CLASS:PUBLIC
DTSTART;VALUE=DATE:20130727
DTEND;VALUE=DATE:20130728
DTSTAMP:20260419T190204Z
LOCATION:Pöcking
URL:https://kyudotermine.de/detail.php?id=117
ATTACH;FMTTYPE=application/pdf:https://kyuvb.de/../media/events/117/LL%20Pr%C3%BCfung%20bis%203.kyu%20Juli%202013.pdf
END:VEVENT
END:VCALENDAR
