BEGIN:VCALENDAR
VERSION:2.0
PRODID:https://kyudotermine.de/
BEGIN:VEVENT
UID:119@kyuvb.de
SUMMARY:ShinZenBi Kyudo Seminar & Cup
DESCRIPTION:Seminar zur Technik für ANKF Shomen und Heki Insai und anschließender Cup\; mit Laurence und Charles-Louis Orious und Sven Zimmermann
CLASS:PUBLIC
DTSTART;VALUE=DATE:20131012
DTEND;VALUE=DATE:20131014
DTSTAMP:20260419T190118Z
LOCATION:Friedrichsthal
URL:https://kyudotermine.de/detail.php?id=119
ATTACH;FMTTYPE=application/pdf:https://kyuvb.de/../media/events/119/SZB-Kyudo-seminar_2013.pdf
END:VEVENT
END:VCALENDAR
