BEGIN:VCALENDAR
VERSION:2.0
PRODID:https://kyudotermine.de/
BEGIN:VEVENT
UID:120@kyuvb.de
SUMMARY:Bundeslehrgang Heki-Technik
DESCRIPTION:Kyudo-Bundeslehrgang mit Roland Pohl
CLASS:PUBLIC
DTSTART;VALUE=DATE:20130921
DTEND;VALUE=DATE:20130923
DTSTAMP:20260419T190241Z
LOCATION:Stuttgart
URL:https://kyudotermine.de/detail.php?id=120
ATTACH;FMTTYPE=application/pdf:https://kyuvb.de/../media/events/120/Ausschreibung_Bul_Stuttgart_21.22.9.2013.pdf
ATTACH;FMTTYPE=application/pdf:https://kyuvb.de/../media/events/120/Stuttgart_Hotels%20in%20Dojon%C3%A4he.pdf
END:VEVENT
END:VCALENDAR
