BEGIN:VCALENDAR
VERSION:2.0
PRODID:https://kyudotermine.de/
BEGIN:VEVENT
UID:121@kyuvb.de
SUMMARY:Enteki-Meisterschaft und Training
DESCRIPTION:22. Deutsche Enteki-Meisterschaft und Training.
CLASS:PUBLIC
DTSTART;VALUE=DATE:20130914
DTEND;VALUE=DATE:20130916
DTSTAMP:20260419T190144Z
LOCATION:Wolfsburg
URL:https://kyudotermine.de/detail.php?id=121
ATTACH;FMTTYPE=application/pdf:https://kyuvb.de/../media/events/121/Ausschreibung%20Enteki%202013.pdf
END:VEVENT
END:VCALENDAR
