BEGIN:VCALENDAR
VERSION:2.0
PRODID:https://kyudotermine.de/
BEGIN:VEVENT
UID:124@kyuvb.de
SUMMARY:Bundeslehrgang Prüferfortbildung
DESCRIPTION:Kyudo-Bundeslehrgang zur Prüfer-Fortbildung mit Fritz Eicher.
CLASS:PUBLIC
DTSTART;VALUE=DATE:20130928
DTEND;VALUE=DATE:20130930
DTSTAMP:20260419T185424Z
LOCATION:Stuttgart
URL:https://kyudotermine.de/detail.php?id=124
ATTACH;FMTTYPE=application/pdf:https://kyuvb.de/../media/events/124/Ausschreibung_Bul_Pr%C3%BCfer-Fortbildung_Stuttgart_28-29.9.2013.pdf
ATTACH;FMTTYPE=application/pdf:https://kyuvb.de/../media/events/124/Stuttgart_Hotels%20in%20Dojon%C3%A4he.pdf
END:VEVENT
END:VCALENDAR
