BEGIN:VCALENDAR
VERSION:2.0
PRODID:https://kyudotermine.de/
BEGIN:VEVENT
UID:125@kyuvb.de
SUMMARY:Bundeslehrgang Heki-Taihai
DESCRIPTION:Taihai-Lehrgang für Trainer und Dan-Graduierte.
CLASS:PUBLIC
DTSTART;VALUE=DATE:20130928
DTEND;VALUE=DATE:20130930
DTSTAMP:20260419T202717Z
LOCATION:Hamburg
URL:https://kyudotermine.de/detail.php?id=125
ATTACH;FMTTYPE=application/pdf:https://kyuvb.de/../media/events/125/Ausschreibung%20BuL%20Heki-Taihai%20HH%20Sept%2013.pdf
END:VEVENT
END:VCALENDAR
