BEGIN:VCALENDAR
VERSION:2.0
PRODID:https://kyudotermine.de/
BEGIN:VEVENT
UID:126@kyuvb.de
SUMMARY:Mokuroku-Lehrgang
DESCRIPTION:Bundeslehrgang Mokuroku mit Manfred Speidel (ab 1. Dan)
CLASS:PUBLIC
DTSTART;VALUE=DATE:20131005
DTEND;VALUE=DATE:20131007
DTSTAMP:20260419T190205Z
LOCATION:Karlsruhe
URL:https://kyudotermine.de/detail.php?id=126
ATTACH;FMTTYPE=application/pdf:https://kyuvb.de/../media/events/126/Ausschreibung_mokuroku_KA_05102013.pdf
END:VEVENT
END:VCALENDAR
