BEGIN:VCALENDAR
VERSION:2.0
PRODID:https://kyudotermine.de/
BEGIN:VEVENT
UID:127@kyuvb.de
SUMMARY:Momokoshi-Taikai
DESCRIPTION:100-Pfeile-Wettkampf an zwei Tagen
CLASS:PUBLIC
DTSTART;VALUE=DATE:20131026
DTEND;VALUE=DATE:20131028
DTSTAMP:20260419T190204Z
LOCATION:Stuttgart
URL:https://kyudotermine.de/detail.php?id=127
ATTACH;FMTTYPE=application/pdf:https://kyuvb.de/../media/events/127/Ausschreibung_Momokoshi%20Taikai_26.-27.10.2013.pdf
END:VEVENT
END:VCALENDAR
