BEGIN:VCALENDAR
VERSION:2.0
PRODID:https://kyudotermine.de/
BEGIN:VEVENT
UID:128@kyuvb.de
SUMMARY:Shomen Bundeslehrgang
DESCRIPTION:Bundeslehrgang Shomen für Dan-Träger\, Trainer und Unterrichtende
CLASS:PUBLIC
DTSTART;VALUE=DATE:20131005
DTEND;VALUE=DATE:20131007
DTSTAMP:20260419T204043Z
LOCATION:Frankfurt
URL:https://kyudotermine.de/detail.php?id=128
ATTACH;FMTTYPE=application/pdf:https://kyuvb.de/../media/events/128/Ausschreibung_Shomen_BUL_Frankfurt_5Okt2013.pdf
END:VEVENT
END:VCALENDAR
