BEGIN:VCALENDAR
VERSION:2.0
PRODID:https://kyudotermine.de/
BEGIN:VEVENT
UID:13@kyuvb.de
SUMMARY:Landeslehrgang
DESCRIPTION:Landeslehrgang in Erlangen\, Prüfung bis 1. Kyu möglich.
CLASS:PUBLIC
DTSTART;VALUE=DATE:20120121
DTEND;VALUE=DATE:20120123
DTSTAMP:20260419T202644Z
LOCATION:Erlangen
URL:https://kyudotermine.de/detail.php?id=13
ATTACH;FMTTYPE=application/pdf:https://kyuvb.de/../media/events/13/ll2012.pdf
END:VEVENT
END:VCALENDAR
