BEGIN:VCALENDAR
VERSION:2.0
PRODID:https://kyudotermine.de/
BEGIN:VEVENT
UID:130@kyuvb.de
SUMMARY:Bundeslehrgang "Funktionale Anatomie II u. unterstützendes Training"
DESCRIPTION:Bundeslehrgang mit Feliks Hoff
CLASS:PUBLIC
DTSTART;VALUE=DATE:20131116
DTEND;VALUE=DATE:20131118
DTSTAMP:20260419T190542Z
LOCATION:Hamburg
URL:https://kyudotermine.de/detail.php?id=130
ATTACH;FMTTYPE=application/pdf:https://kyuvb.de/../media/events/130/Ausschreibung%20BuL%2016.17.11.13.pdf
ATTACH;FMTTYPE=application/pdf:https://kyuvb.de/../media/events/130/Info%20BuL%2016.17.%2011.13.pdf
END:VEVENT
END:VCALENDAR
