BEGIN:VCALENDAR
VERSION:2.0
PRODID:https://kyudotermine.de/
BEGIN:VEVENT
UID:14@kyuvb.de
SUMMARY:Bayerische Meisterschaft
DESCRIPTION:Bayerische Meisterschaft\, Einschießen ab 10.30\, Wettkampfbeginn 12 Uhr.
CLASS:PUBLIC
DTSTART;VALUE=DATE:20120324
DTEND;VALUE=DATE:20120325
DTSTAMP:20260419T202717Z
LOCATION:Ingolstadt
URL:https://kyudotermine.de/detail.php?id=14
ATTACH;FMTTYPE=application/pdf:https://kyuvb.de/../media/events/14/Ausschreibung%20Bayerische%20Meisterschaft%202012.pdf
END:VEVENT
END:VCALENDAR
