BEGIN:VCALENDAR
VERSION:2.0
PRODID:https://kyudotermine.de/
BEGIN:VEVENT
UID:140@kyuvb.de
SUMMARY:Bundeslehrgang Material
DESCRIPTION:Lehrgang zum Thema Material mit Fritz Eicher
CLASS:PUBLIC
DTSTART;VALUE=DATE:20131207
DTEND;VALUE=DATE:20131209
DTSTAMP:20260419T190542Z
LOCATION:Erlangen
URL:https://kyudotermine.de/detail.php?id=140
ATTACH;FMTTYPE=application/pdf:https://kyuvb.de/../media/events/140/BUL_Material_Erlangen_Dez2013.pdf
END:VEVENT
END:VCALENDAR
