BEGIN:VCALENDAR
VERSION:2.0
PRODID:https://kyudotermine.de/
BEGIN:VEVENT
UID:141@kyuvb.de
SUMMARY:Workshop ANKF Prüfungs-Taihai u. a. Zeremonien
DESCRIPTION:Workshop für Mato- und Makiwaraschützen mit John Carder Bush und Jeff Humm.
CLASS:PUBLIC
DTSTART;VALUE=DATE:20131123
DTEND;VALUE=DATE:20131125
DTSTAMP:20260419T190107Z
LOCATION:Neuburg
URL:https://kyudotermine.de/detail.php?id=141
ATTACH;FMTTYPE=application/pdf:https://kyuvb.de/../media/events/141/Workshop%202013.pdf
END:VEVENT
END:VCALENDAR
