BEGIN:VCALENDAR
VERSION:2.0
PRODID:https://kyudotermine.de/
BEGIN:VEVENT
UID:142@kyuvb.de
SUMMARY:Offener Landeslehrgang Heki-Technik
DESCRIPTION:Landeslehrgang zum Thema Heki-Technik mit Roland Pohl
CLASS:PUBLIC
DTSTART;VALUE=DATE:20131207
DTEND;VALUE=DATE:20131209
DTSTAMP:20260419T202538Z
LOCATION:Dresden
URL:https://kyudotermine.de/detail.php?id=142
ATTACH;FMTTYPE=application/pdf:https://kyuvb.de/../media/events/142/LL_Heki-Technik_Dresden_mit_R._Pohl.pdf
END:VEVENT
END:VCALENDAR
