BEGIN:VCALENDAR
VERSION:2.0
PRODID:https://kyudotermine.de/
BEGIN:VEVENT
UID:143@kyuvb.de
SUMMARY:Landeslehrgang
DESCRIPTION:Landeslehrgang zum Thema Yugamae bis Hanare
CLASS:PUBLIC
DTSTART;VALUE=DATE:20131207
DTEND;VALUE=DATE:20131209
DTSTAMP:20260419T202504Z
LOCATION:Berlin
URL:https://kyudotermine.de/detail.php?id=143
ATTACH;FMTTYPE=application/pdf:https://kyuvb.de/../media/events/143/Ausschreibung%20LaLe%202013.pdf
ATTACH;FMTTYPE=application/pdf:https://kyuvb.de/../media/events/143/Anreise-Unterkuenfte.pdf
END:VEVENT
END:VCALENDAR
