BEGIN:VCALENDAR
VERSION:2.0
PRODID:https://kyudotermine.de/
BEGIN:VEVENT
UID:144@kyuvb.de
SUMMARY:Landeslehrgang
DESCRIPTION:Landeslehrgang mit Prüfung bis 3. Kyu
CLASS:PUBLIC
DTSTART;VALUE=DATE:20131123
DTEND;VALUE=DATE:20131124
DTSTAMP:20260419T203341Z
LOCATION:Pöcking
URL:https://kyudotermine.de/detail.php?id=144
ATTACH;FMTTYPE=application/pdf:https://kyuvb.de/../media/events/144/LL%20Pr%C3%BCfung%20bis%203.kyu%20November%202013.pdf
END:VEVENT
END:VCALENDAR
