BEGIN:VCALENDAR
VERSION:2.0
PRODID:https://kyudotermine.de/
BEGIN:VEVENT
UID:145@kyuvb.de
SUMMARY:Landeslehrgang
DESCRIPTION:Landeslehrgang mit Prüfung für 1./2. Kyu
CLASS:PUBLIC
DTSTART;VALUE=DATE:20131130
DTEND;VALUE=DATE:20131201
DTSTAMP:20260419T190543Z
LOCATION:Hamburg
URL:https://kyudotermine.de/detail.php?id=145
ATTACH;FMTTYPE=application/pdf:https://kyuvb.de/../media/events/145/Kyudo-Pr%C3%BCfung%20dez%2013%20Kopie.pdf
END:VEVENT
END:VCALENDAR
