BEGIN:VCALENDAR
VERSION:2.0
PRODID:https://kyudotermine.de/
BEGIN:VEVENT
UID:146@kyuvb.de
SUMMARY:Prüfungslehrgang bis 1. Kyu
DESCRIPTION:Landeslehrgang zur Prüfungsvorbereitung mit Prüfung bis zum 1. Kyu.
CLASS:PUBLIC
DTSTART;VALUE=DATE:20131109
DTEND;VALUE=DATE:20131111
DTSTAMP:20260419T190145Z
LOCATION:Bad Dürkheim
URL:https://kyudotermine.de/detail.php?id=146
ATTACH;FMTTYPE=application/pdf:https://kyuvb.de/../media/events/146/Pr%C3%BCfungslehrgang2013.pdf
END:VEVENT
END:VCALENDAR
