BEGIN:VCALENDAR
VERSION:2.0
PRODID:https://kyudotermine.de/
BEGIN:VEVENT
UID:148@kyuvb.de
SUMMARY:Dan-Lehrgang: B/C-Seminar Englisch
DESCRIPTION:Nähere Informationen unter <a href="http://kyudo.de/international/ikyf-2014.htm">http://kyudo.de/international/ikyf-2014.htm</a>.
CLASS:PUBLIC
DTSTART;VALUE=DATE:20140710
DTEND;VALUE=DATE:20140713
DTSTAMP:20260421T084004Z
LOCATION:Paris\, Frankreich
URL:https://kyudotermine.de/detail.php?id=148
END:VEVENT
END:VCALENDAR
