BEGIN:VCALENDAR
VERSION:2.0
PRODID:https://kyudotermine.de/
BEGIN:VEVENT
UID:151@kyuvb.de
SUMMARY:2. Sekai World Taikai
DESCRIPTION:Nähere Informationen unter <a href="http://kyudo.de/international/ikyf-2014.htm">http://kyudo.de/international/ikyf-2014.htm</a>.
CLASS:PUBLIC
DTSTART;VALUE=DATE:20140719
DTEND;VALUE=DATE:20140721
DTSTAMP:20260421T081113Z
LOCATION:Paris\, Frankreich
URL:https://kyudotermine.de/detail.php?id=151
END:VEVENT
END:VCALENDAR
