BEGIN:VCALENDAR
VERSION:2.0
PRODID:https://kyudotermine.de/
BEGIN:VEVENT
UID:154@kyuvb.de
SUMMARY:Landeslehrgang Heki-Technik
DESCRIPTION:Landeslehrgang mit Thema Tsunomi-no-hataraki
CLASS:PUBLIC
DTSTART;VALUE=DATE:20140301
DTEND;VALUE=DATE:20140303
DTSTAMP:20260421T090508Z
LOCATION:Frankfurt
URL:https://kyudotermine.de/detail.php?id=154
ATTACH;FMTTYPE=application/pdf:https://kyuvb.de/../media/events/154/Ausschreibung%20LaLM%C3%A4rz%202014%20in%20FfM.pdf
END:VEVENT
END:VCALENDAR
