BEGIN:VCALENDAR
VERSION:2.0
PRODID:https://kyudotermine.de/
BEGIN:VEVENT
UID:155@kyuvb.de
SUMMARY:Rheingoldtaikai
DESCRIPTION:Offener Mannschafts- und Einzelwettkampf
CLASS:PUBLIC
DTSTART;VALUE=DATE:20140322
DTEND;VALUE=DATE:20140323
DTSTAMP:20260421T081153Z
LOCATION:Erkrath
URL:https://kyudotermine.de/detail.php?id=155
ATTACH;FMTTYPE=application/pdf:https://kyuvb.de/../media/events/155/Rheingoldtaikai%202014.pdf
END:VEVENT
END:VCALENDAR
