BEGIN:VCALENDAR
VERSION:2.0
PRODID:https://kyudotermine.de/
BEGIN:VEVENT
UID:157@kyuvb.de
SUMMARY:Heki-Seminar
DESCRIPTION:Seminar zur Technik der Hekischule für Matoschützen\, mit Fritz Eicher
CLASS:PUBLIC
DTSTART;VALUE=DATE:20140322
DTEND;VALUE=DATE:20140324
DTSTAMP:20260421T090024Z
LOCATION:Bad Dürkheim
URL:https://kyudotermine.de/detail.php?id=157
ATTACH;FMTTYPE=application/pdf:https://kyuvb.de/../media/events/157/Heki%202014.pdf
END:VEVENT
END:VCALENDAR
