BEGIN:VCALENDAR
VERSION:2.0
PRODID:https://kyudotermine.de/
BEGIN:VEVENT
UID:162@kyuvb.de
SUMMARY:Bundeslehrgang Prüfungsvorbereitung
DESCRIPTION:Lehrgang zur Prüfungsvorbereitung für Anwärter des 3. Dan und höher
CLASS:PUBLIC
DTSTART;VALUE=DATE:20140405
DTEND;VALUE=DATE:20140407
DTSTAMP:20260421T090701Z
LOCATION:Hamburg
URL:https://kyudotermine.de/detail.php?id=162
ATTACH;FMTTYPE=application/pdf:https://kyuvb.de/../media/events/162/Pr%C3%BCfungsvorbereitung%20ab%202.%20Dan.pdf
END:VEVENT
END:VCALENDAR
