BEGIN:VCALENDAR
VERSION:2.0
PRODID:https://kyudotermine.de/
BEGIN:VEVENT
UID:163@kyuvb.de
SUMMARY:Bundeslehrgang Dan-Prüfungsvorbereitung
DESCRIPTION:Lehrgang für alle Kyudoka\, die sich auf eine Dan-Prüfung vorbereiten.
CLASS:PUBLIC
DTSTART;VALUE=DATE:20140517
DTEND;VALUE=DATE:20140519
DTSTAMP:20260421T081357Z
LOCATION:Erlangen
URL:https://kyudotermine.de/detail.php?id=163
ATTACH;FMTTYPE=application/pdf:https://kyuvb.de/../media/events/163/BuL_Danvorbereitung_Erlangen_Mai2014.pdf
END:VEVENT
END:VCALENDAR
