BEGIN:VCALENDAR
VERSION:2.0
PRODID:https://kyudotermine.de/
BEGIN:VEVENT
UID:165@kyuvb.de
SUMMARY:Landeslehrgang mit Prüfung zum 1./2. Kyu
DESCRIPTION:Lehrgang des Alster Dojo
CLASS:PUBLIC
DTSTART;VALUE=DATE:20140524
DTEND;VALUE=DATE:20140525
DTSTAMP:20260423T090816Z
LOCATION:Hamburg
URL:https://kyudotermine.de/detail.php?id=165
ATTACH;FMTTYPE=application/pdf:https://kyuvb.de/../media/events/165/Kyudo-Pr%C3%BCfung%20mai%2014%20%20Kopie.pdf
END:VEVENT
END:VCALENDAR
