BEGIN:VCALENDAR
VERSION:2.0
PRODID:https://kyudotermine.de/
BEGIN:VEVENT
UID:17@kyuvb.de
SUMMARY:Landeslehrgang
DESCRIPTION:Landeslehrgang in Germaringen mit Kurosu Sensei
CLASS:PUBLIC
DTSTART;VALUE=DATE:20120318
DTEND;VALUE=DATE:20120319
DTSTAMP:20260419T221144Z
LOCATION:Germaringen
URL:https://kyudotermine.de/detail.php?id=17
ATTACH;FMTTYPE=application/pdf:https://kyuvb.de/../media/events/17/LL%20Ausschreibung%20SVO%202012%20Kurosu%20Sensei.pdf
END:VEVENT
END:VCALENDAR
