BEGIN:VCALENDAR
VERSION:2.0
PRODID:https://kyudotermine.de/
BEGIN:VEVENT
UID:173@kyuvb.de
SUMMARY:Deutsche Meisterschaften 2014
DESCRIPTION:Deutsche Sempai-\, Einzel- und Mannschaftsmeisterschaft sowie Einzelmeisterschaft der Kyu-Grade
CLASS:PUBLIC
DTSTART;VALUE=DATE:20140614
DTEND;VALUE=DATE:20140616
DTSTAMP:20260421T081234Z
LOCATION:Düsseldorf
URL:https://kyudotermine.de/detail.php?id=173
ATTACH;FMTTYPE=application/pdf:https://kyuvb.de/../media/events/173/Ausschreibung%20DM%202014.pdf
END:VEVENT
END:VCALENDAR
