BEGIN:VCALENDAR
VERSION:2.0
PRODID:https://kyudotermine.de/
BEGIN:VEVENT
UID:174@kyuvb.de
SUMMARY:Landeslehrgang zur Prüfungsvorbereitung
DESCRIPTION:Landeslehrgang mit Prüfungsmöglichkeit bis 1. Kyu.
CLASS:PUBLIC
DTSTART;VALUE=DATE:20140628
DTEND;VALUE=DATE:20140630
DTSTAMP:20260421T081152Z
LOCATION:Neuburg
URL:https://kyudotermine.de/detail.php?id=174
ATTACH;FMTTYPE=application/pdf:https://kyuvb.de/../media/events/174/LL_2014.pdf
END:VEVENT
END:VCALENDAR
