BEGIN:VCALENDAR
VERSION:2.0
PRODID:https://kyudotermine.de/
BEGIN:VEVENT
UID:18@kyuvb.de
SUMMARY:Prüfungslehrgang
DESCRIPTION:Prüfungslehrgang in Germaringen\, Prüfung bis 1. Kyu möglich.
CLASS:PUBLIC
DTSTART;VALUE=DATE:20120317
DTEND;VALUE=DATE:20120318
DTSTAMP:20260419T202645Z
LOCATION:Germaringen
URL:https://kyudotermine.de/detail.php?id=18
ATTACH;FMTTYPE=application/pdf:https://kyuvb.de/../media/events/18/LL%20AusschreibungSVO%202012%20Pr%C3%BCfung.pdf
END:VEVENT
END:VCALENDAR
