BEGIN:VCALENDAR
VERSION:2.0
PRODID:https://kyudotermine.de/
BEGIN:VEVENT
UID:184@kyuvb.de
SUMMARY:Offene Österreichische Kyudo-Meisterschaft 2014
DESCRIPTION:Einzel- und Mannschaftswettkampf\, Einzel mit Stilpreis.
CLASS:PUBLIC
DTSTART;VALUE=DATE:20140531
DTEND;VALUE=DATE:20140601
DTSTAMP:20260421T082327Z
LOCATION:Wien
URL:https://kyudotermine.de/detail.php?id=184
ATTACH;FMTTYPE=application/pdf:https://kyuvb.de/../media/events/184/Ausschreibg_%C3%96sterr_Kyudo_Meist__2014.pdf
END:VEVENT
END:VCALENDAR
