BEGIN:VCALENDAR
VERSION:2.0
PRODID:https://kyudotermine.de/
BEGIN:VEVENT
UID:189@kyuvb.de
SUMMARY:Offenes Sommerseminar
DESCRIPTION:Offenes Sommerseminar für Trainer und Wettkampf-Interessierte mit Sato Sensei
CLASS:PUBLIC
DTSTART;VALUE=DATE:20140801
DTEND;VALUE=DATE:20140804
DTSTAMP:20260421T090348Z
LOCATION:Hamburg
URL:https://kyudotermine.de/detail.php?id=189
ATTACH;FMTTYPE=application/pdf:https://kyuvb.de/../media/events/189/Ausschreibung%20Offenes%20Seminar%20Sato-Sem%202014%20aktualisiert.pdf
END:VEVENT
END:VCALENDAR
