BEGIN:VCALENDAR
VERSION:2.0
PRODID:https://kyudotermine.de/
BEGIN:VEVENT
UID:19@kyuvb.de
SUMMARY:Landeslehrgang
DESCRIPTION:Landeslehrgang Niedersachsen\, Thema: Sharei als Ausdrucksform von shin zen bi.
CLASS:PUBLIC
DTSTART;VALUE=DATE:20120505
DTEND;VALUE=DATE:20120507
DTSTAMP:20260419T203233Z
LOCATION:Göttingen
URL:https://kyudotermine.de/detail.php?id=19
ATTACH;FMTTYPE=application/pdf:https://kyuvb.de/../media/events/19/Ausschreibung%20LLNiedersachsen.pdf
END:VEVENT
END:VCALENDAR
