BEGIN:VCALENDAR
VERSION:2.0
PRODID:https://kyudotermine.de/
BEGIN:VEVENT
UID:196@kyuvb.de
SUMMARY:Offenes Sommerseminar
DESCRIPTION:Offenes Seminar mit Mori sensei\, Kurosu sensei\, Fritz Gabler und Manfred Speidel
CLASS:PUBLIC
DTSTART;VALUE=DATE:20140811
DTEND;VALUE=DATE:20140814
DTSTAMP:20260421T081111Z
LOCATION:Rottweil
URL:https://kyudotermine.de/detail.php?id=196
ATTACH;FMTTYPE=application/pdf:https://kyuvb.de/../media/events/196/DKyuB%20Rottweil%2011.-13.8%20Offen1.pdf
ATTACH;FMTTYPE=application/pdf:https://kyuvb.de/../media/events/196/Anmeldung11.-13.8.14%20Rottweil.xls
END:VEVENT
END:VCALENDAR
