BEGIN:VCALENDAR
VERSION:2.0
PRODID:https://kyudotermine.de/
BEGIN:VEVENT
UID:198@kyuvb.de
SUMMARY:Heki-Sommerseminar (Älteren-Seminar)
DESCRIPTION:Seminar mit Mori Sensei\, Kurosu Sensei und Manfred Speidel\, bevorzugt für Matoschützen ab 10 Jahre Kyudopraxis
CLASS:PUBLIC
DTSTART;VALUE=DATE:20140818
DTEND;VALUE=DATE:20140821
DTSTAMP:20260421T081328Z
LOCATION:Dresden
URL:https://kyudotermine.de/detail.php?id=198
ATTACH;FMTTYPE=application/pdf:https://kyuvb.de/../media/events/198/Ausschreibung%20Seminar%201%20Dresden%20-%C3%84lteren-Seminar-%2018.-20.08.2014%20Mori%20Sensei.pdf
ATTACH;FMTTYPE=application/pdf:https://kyuvb.de/../media/events/198/Vorlage%20Seminar%201%20Dresden.xls
END:VEVENT
END:VCALENDAR
