BEGIN:VCALENDAR
VERSION:2.0
PRODID:https://kyudotermine.de/
BEGIN:VEVENT
UID:199@kyuvb.de
SUMMARY:Heki-Sommerseminar (Offenes Seminar)
DESCRIPTION:Seminar mit Mori Sensei\, Kurosu Sensei und Manfred Speidel.
CLASS:PUBLIC
DTSTART;VALUE=DATE:20140821
DTEND;VALUE=DATE:20140824
DTSTAMP:20260421T081111Z
LOCATION:Dresden
URL:https://kyudotermine.de/detail.php?id=199
ATTACH;FMTTYPE=application/pdf:https://kyuvb.de/../media/events/199/Ausschreibung%20Seminar%202%20Dresden%20-Offenes%20Seminar-%2021.-23.08.2014%20Mori%20Sensei.pdf
ATTACH;FMTTYPE=application/pdf:https://kyuvb.de/../media/events/199/Vorlage%20Seminar%202%20Dresden.xls
END:VEVENT
END:VCALENDAR
