BEGIN:VCALENDAR
VERSION:2.0
PRODID:https://kyudotermine.de/
BEGIN:VEVENT
UID:203@kyuvb.de
SUMMARY:ShinZenBi Kyudo Seminar und Cup 2014
DESCRIPTION:Seminar zum Thema Technik\, Taihai und Sharei sowie Einzelmeisterschaft
CLASS:PUBLIC
DTSTART;VALUE=DATE:20140920
DTEND;VALUE=DATE:20140922
DTSTAMP:20260421T081233Z
LOCATION:Saarbrücken
URL:https://kyudotermine.de/detail.php?id=203
ATTACH;FMTTYPE=application/pdf:https://kyuvb.de/../media/events/203/SZB_Kyudo_seminar_2014.pdf
END:VEVENT
END:VCALENDAR
