BEGIN:VCALENDAR
VERSION:2.0
PRODID:https://kyudotermine.de/
BEGIN:VEVENT
UID:204@kyuvb.de
SUMMARY:Momokoshi-Taikai
DESCRIPTION:100-Pfeile-Wettkampf\, offen für alle Mato-Schützen
CLASS:PUBLIC
DTSTART;VALUE=DATE:20141018
DTEND;VALUE=DATE:20141020
DTSTAMP:20260421T082237Z
LOCATION:Stuttgart
URL:https://kyudotermine.de/detail.php?id=204
ATTACH;FMTTYPE=application/pdf:https://kyuvb.de/../media/events/204/Ausschreibung%20MokoTai%202014.pdf
END:VEVENT
END:VCALENDAR
