BEGIN:VCALENDAR
VERSION:2.0
PRODID:https://kyudotermine.de/
BEGIN:VEVENT
UID:206@kyuvb.de
SUMMARY:22. Deutsche Enteki-Meisterschaft
DESCRIPTION:Enteki-Meisterschaft und Training.
CLASS:PUBLIC
DTSTART;VALUE=DATE:20140920
DTEND;VALUE=DATE:20140922
DTSTAMP:20260421T081248Z
LOCATION:Dresden
URL:https://kyudotermine.de/detail.php?id=206
ATTACH;FMTTYPE=application/pdf:https://kyuvb.de/../media/events/206/Ausschreibung%20Enteki_2014.pdf
END:VEVENT
END:VCALENDAR
