BEGIN:VCALENDAR
VERSION:2.0
PRODID:https://kyudotermine.de/
BEGIN:VEVENT
UID:219@kyuvb.de
SUMMARY:100-Pfeile-Schießen
DESCRIPTION:Offener Wettkampf
CLASS:PUBLIC
DTSTART;VALUE=DATE:20140920
DTEND;VALUE=DATE:20140921
DTSTAMP:20260421T081321Z
LOCATION:Bad Dürkheim
URL:https://kyudotermine.de/detail.php?id=219
ATTACH;FMTTYPE=application/pdf:https://kyuvb.de/../media/events/219/100-Pfeile2014.pdf
END:VEVENT
END:VCALENDAR
